BEGIN:VCALENDAR
VERSION:2.0
PRODID:-//Villa Kunterbunt - ECPv5.8.0//NONSGML v1.0//EN
CALSCALE:GREGORIAN
METHOD:PUBLISH
X-WR-CALNAME:Villa Kunterbunt
X-ORIGINAL-URL:https://villa-kunterbunt-rheinboellen.de
X-WR-CALDESC:Veranstaltungen für Villa Kunterbunt
BEGIN:VTIMEZONE
TZID:Europe/Berlin
BEGIN:DAYLIGHT
TZOFFSETFROM:+0100
TZOFFSETTO:+0200
TZNAME:CEST
DTSTART:20260329T010000
END:DAYLIGHT
BEGIN:STANDARD
TZOFFSETFROM:+0200
TZOFFSETTO:+0100
TZNAME:CET
DTSTART:20261025T010000
END:STANDARD
END:VTIMEZONE
BEGIN:VEVENT
DTSTART;TZID=Europe/Berlin:20260515T080000
DTEND;TZID=Europe/Berlin:20260515T170000
DTSTAMP:20260423T182713
CREATED:20250721T091045Z
LAST-MODIFIED:20250721T091045Z
UID:989761-1778832000-1778864400@villa-kunterbunt-rheinboellen.de
SUMMARY:Brückentag -- Kita geschlossen --
DESCRIPTION:
URL:https://villa-kunterbunt-rheinboellen.de/termin/brueckentag-kita-geschlossen-8/
END:VEVENT
END:VCALENDAR