BEGIN:VCALENDAR
VERSION:2.0
PRODID:-//Villa Kunterbunt - ECPv5.8.0//NONSGML v1.0//EN
CALSCALE:GREGORIAN
METHOD:PUBLISH
X-WR-CALNAME:Villa Kunterbunt
X-ORIGINAL-URL:https://villa-kunterbunt-rheinboellen.de
X-WR-CALDESC:Veranstaltungen für Villa Kunterbunt
BEGIN:VTIMEZONE
TZID:Europe/Berlin
BEGIN:DAYLIGHT
TZOFFSETFROM:+0100
TZOFFSETTO:+0200
TZNAME:CEST
DTSTART:20230326T010000
END:DAYLIGHT
BEGIN:STANDARD
TZOFFSETFROM:+0200
TZOFFSETTO:+0100
TZNAME:CET
DTSTART:20231029T010000
END:STANDARD
END:VTIMEZONE
BEGIN:VEVENT
DTSTART;TZID=Europe/Berlin:20231206T163000
DTEND;TZID=Europe/Berlin:20231206T180000
DTSTAMP:20260424T153735
CREATED:20230920T080234Z
LAST-MODIFIED:20230920T080234Z
UID:989223-1701880200-1701885600@villa-kunterbunt-rheinboellen.de
SUMMARY:Nikolausfeier
DESCRIPTION:
URL:https://villa-kunterbunt-rheinboellen.de/termin/nikolausfeier-3/
END:VEVENT
END:VCALENDAR