BEGIN:VCALENDAR
VERSION:2.0
PRODID:-//Villa Kunterbunt - ECPv5.8.0//NONSGML v1.0//EN
CALSCALE:GREGORIAN
METHOD:PUBLISH
X-WR-CALNAME:Villa Kunterbunt
X-ORIGINAL-URL:https://villa-kunterbunt-rheinboellen.de
X-WR-CALDESC:Veranstaltungen für Villa Kunterbunt
BEGIN:VTIMEZONE
TZID:Europe/Berlin
BEGIN:DAYLIGHT
TZOFFSETFROM:+0100
TZOFFSETTO:+0200
TZNAME:CEST
DTSTART:20230326T010000
END:DAYLIGHT
BEGIN:STANDARD
TZOFFSETFROM:+0200
TZOFFSETTO:+0100
TZNAME:CET
DTSTART:20231029T010000
END:STANDARD
END:VTIMEZONE
BEGIN:VEVENT
DTSTART;TZID=Europe/Berlin:20231025T080000
DTEND;TZID=Europe/Berlin:20231027T170000
DTSTAMP:20260424T182215
CREATED:20221024T081859Z
LAST-MODIFIED:20221024T081859Z
UID:989016-1698220800-1698426000@villa-kunterbunt-rheinboellen.de
SUMMARY:Putz- und Konzeptionstage - Kita geschlossen
DESCRIPTION:
URL:https://villa-kunterbunt-rheinboellen.de/termin/putz-und-konzeptionstage-kita-geschlossen-2/
END:VEVENT
END:VCALENDAR