BEGIN:VCALENDAR
VERSION:2.0
PRODID:-//Villa Kunterbunt - ECPv5.8.0//NONSGML v1.0//EN
CALSCALE:GREGORIAN
METHOD:PUBLISH
X-WR-CALNAME:Villa Kunterbunt
X-ORIGINAL-URL:https://villa-kunterbunt-rheinboellen.de
X-WR-CALDESC:Veranstaltungen für Villa Kunterbunt
BEGIN:VTIMEZONE
TZID:Europe/Berlin
BEGIN:DAYLIGHT
TZOFFSETFROM:+0100
TZOFFSETTO:+0200
TZNAME:CEST
DTSTART:20250330T010000
END:DAYLIGHT
BEGIN:STANDARD
TZOFFSETFROM:+0200
TZOFFSETTO:+0100
TZNAME:CET
DTSTART:20251026T010000
END:STANDARD
END:VTIMEZONE
BEGIN:VEVENT
DTSTART;TZID=Europe/Berlin:20251201T130000
DTEND;TZID=Europe/Berlin:20251201T170000
DTSTAMP:20260424T025115
CREATED:20250721T090846Z
LAST-MODIFIED:20250721T090846Z
UID:989753-1764594000-1764608400@villa-kunterbunt-rheinboellen.de
SUMMARY:Fachtagung Erzieher
DESCRIPTION:Fachtagung Erzieher — Kita ab 13:00 Uhr geschlossen —
URL:https://villa-kunterbunt-rheinboellen.de/termin/fachtagung-erzieher-4/
END:VEVENT
END:VCALENDAR