BEGIN:VCALENDAR
VERSION:2.0
PRODID:-//Villa Kunterbunt - ECPv5.8.0//NONSGML v1.0//EN
CALSCALE:GREGORIAN
METHOD:PUBLISH
X-WR-CALNAME:Villa Kunterbunt
X-ORIGINAL-URL:https://villa-kunterbunt-rheinboellen.de
X-WR-CALDESC:Veranstaltungen für Villa Kunterbunt
BEGIN:VTIMEZONE
TZID:Europe/Berlin
BEGIN:DAYLIGHT
TZOFFSETFROM:+0100
TZOFFSETTO:+0200
TZNAME:CEST
DTSTART:20260329T010000
END:DAYLIGHT
BEGIN:STANDARD
TZOFFSETFROM:+0200
TZOFFSETTO:+0100
TZNAME:CET
DTSTART:20261025T010000
END:STANDARD
END:VTIMEZONE
BEGIN:VEVENT
DTSTART;TZID=Europe/Berlin:20260429T080000
DTEND;TZID=Europe/Berlin:20260430T170000
DTSTAMP:20260423T145640
CREATED:20250721T091025Z
LAST-MODIFIED:20250721T091025Z
UID:989759-1777449600-1777568400@villa-kunterbunt-rheinboellen.de
SUMMARY:Konzeptionstage -- Kita geschlossen --
DESCRIPTION:
URL:https://villa-kunterbunt-rheinboellen.de/termin/konzeptionstage-kita-geschlossen-3/
END:VEVENT
BEGIN:VEVENT
DTSTART;TZID=Europe/Berlin:20260515T080000
DTEND;TZID=Europe/Berlin:20260515T170000
DTSTAMP:20260423T145640
CREATED:20250721T091045Z
LAST-MODIFIED:20250721T091045Z
UID:989761-1778832000-1778864400@villa-kunterbunt-rheinboellen.de
SUMMARY:Brückentag -- Kita geschlossen --
DESCRIPTION:
URL:https://villa-kunterbunt-rheinboellen.de/termin/brueckentag-kita-geschlossen-8/
END:VEVENT
BEGIN:VEVENT
DTSTART;TZID=Europe/Berlin:20260605T080000
DTEND;TZID=Europe/Berlin:20260605T170000
DTSTAMP:20260423T145640
CREATED:20250721T091107Z
LAST-MODIFIED:20250721T091107Z
UID:989763-1780646400-1780678800@villa-kunterbunt-rheinboellen.de
SUMMARY:Brückentag -- Kita geschlossen --
DESCRIPTION:
URL:https://villa-kunterbunt-rheinboellen.de/termin/brueckentag-kita-geschlossen-9/
END:VEVENT
BEGIN:VEVENT
DTSTART;TZID=Europe/Berlin:20260720T080000
DTEND;TZID=Europe/Berlin:20260731T170000
DTSTAMP:20260423T145640
CREATED:20250721T091134Z
LAST-MODIFIED:20250721T091134Z
UID:989765-1784534400-1785517200@villa-kunterbunt-rheinboellen.de
SUMMARY:Sommerferien -- Kita geschlossen --
DESCRIPTION:
URL:https://villa-kunterbunt-rheinboellen.de/termin/sommerferien-kita-geschlossen-2/
END:VEVENT
BEGIN:VEVENT
DTSTART;TZID=Europe/Berlin:20260911T080000
DTEND;TZID=Europe/Berlin:20260911T170000
DTSTAMP:20260423T145640
CREATED:20250721T091205Z
LAST-MODIFIED:20250721T091205Z
UID:989767-1789113600-1789146000@villa-kunterbunt-rheinboellen.de
SUMMARY:Betriebsausflug -- Kita geschlossen --
DESCRIPTION:
URL:https://villa-kunterbunt-rheinboellen.de/termin/betriebsausflug-kita-geschlossen-4/
END:VEVENT
BEGIN:VEVENT
DTSTART;TZID=Europe/Berlin:20261029T080000
DTEND;TZID=Europe/Berlin:20261030T170000
DTSTAMP:20260423T145640
CREATED:20250721T091230Z
LAST-MODIFIED:20250721T091230Z
UID:989769-1793260800-1793379600@villa-kunterbunt-rheinboellen.de
SUMMARY:Konzeptionstage -- Kita geschlossen --
DESCRIPTION:
URL:https://villa-kunterbunt-rheinboellen.de/termin/konzeptionstage-kita-geschlossen-4/
END:VEVENT
END:VCALENDAR