BEGIN:VCALENDAR
VERSION:2.0
PRODID:-//Villa Kunterbunt - ECPv5.8.0//NONSGML v1.0//EN
CALSCALE:GREGORIAN
METHOD:PUBLISH
X-WR-CALNAME:Villa Kunterbunt
X-ORIGINAL-URL:https://villa-kunterbunt-rheinboellen.de
X-WR-CALDESC:Veranstaltungen für Villa Kunterbunt
BEGIN:VTIMEZONE
TZID:Europe/Berlin
BEGIN:DAYLIGHT
TZOFFSETFROM:+0100
TZOFFSETTO:+0200
TZNAME:CEST
DTSTART:20250330T010000
END:DAYLIGHT
BEGIN:STANDARD
TZOFFSETFROM:+0200
TZOFFSETTO:+0100
TZNAME:CET
DTSTART:20251026T010000
END:STANDARD
END:VTIMEZONE
BEGIN:VEVENT
DTSTART;VALUE=DATE:20250303
DTEND;VALUE=DATE:20250305
DTSTAMP:20260424T160351
CREATED:20241129T090049Z
LAST-MODIFIED:20241129T090049Z
UID:989564-1740960000-1741132799@villa-kunterbunt-rheinboellen.de
SUMMARY:Fasching - Kita geschlossen -
DESCRIPTION:
URL:https://villa-kunterbunt-rheinboellen.de/termin/fasching-kita-geschlossen/
END:VEVENT
END:VCALENDAR