BEGIN:VCALENDAR
VERSION:2.0
PRODID:-//Villa Kunterbunt - ECPv5.8.0//NONSGML v1.0//EN
CALSCALE:GREGORIAN
METHOD:PUBLISH
X-WR-CALNAME:Villa Kunterbunt
X-ORIGINAL-URL:https://villa-kunterbunt-rheinboellen.de
X-WR-CALDESC:Veranstaltungen für Villa Kunterbunt
BEGIN:VTIMEZONE
TZID:Europe/Berlin
BEGIN:DAYLIGHT
TZOFFSETFROM:+0100
TZOFFSETTO:+0200
TZNAME:CEST
DTSTART:20250330T010000
END:DAYLIGHT
BEGIN:STANDARD
TZOFFSETFROM:+0200
TZOFFSETTO:+0100
TZNAME:CET
DTSTART:20251026T010000
END:STANDARD
END:VTIMEZONE
BEGIN:VEVENT
DTSTART;VALUE=DATE:20250502
DTEND;VALUE=DATE:20250503
DTSTAMP:20260424T125912
CREATED:20241129T090327Z
LAST-MODIFIED:20241129T090327Z
UID:989570-1746144000-1746230399@villa-kunterbunt-rheinboellen.de
SUMMARY:Brückentag - Kita geschlossen -
DESCRIPTION:
URL:https://villa-kunterbunt-rheinboellen.de/termin/brueckentag-kita-geschlossen-10/
END:VEVENT
BEGIN:VEVENT
DTSTART;VALUE=DATE:20250530
DTEND;VALUE=DATE:20250531
DTSTAMP:20260424T125912
CREATED:20241129T090403Z
LAST-MODIFIED:20241129T090403Z
UID:989572-1748563200-1748649599@villa-kunterbunt-rheinboellen.de
SUMMARY:Brückentag - Kita geschlossen -
DESCRIPTION:
URL:https://villa-kunterbunt-rheinboellen.de/termin/brueckentag-kita-geschlossen-11/
END:VEVENT
END:VCALENDAR